BEGIN:VCALENDAR
VERSION:2.0
PRODID:-//Jugend für das Leben - ECPv6.15.18//NONSGML v1.0//EN
CALSCALE:GREGORIAN
METHOD:PUBLISH
X-WR-CALNAME:Jugend für das Leben
X-ORIGINAL-URL:https://jugend.alfa-ev.de
X-WR-CALDESC:Veranstaltungen für Jugend für das Leben
REFRESH-INTERVAL;VALUE=DURATION:PT1H
X-Robots-Tag:noindex
X-PUBLISHED-TTL:PT1H
BEGIN:VTIMEZONE
TZID:Europe/Berlin
BEGIN:DAYLIGHT
TZOFFSETFROM:+0100
TZOFFSETTO:+0200
TZNAME:CEST
DTSTART:20250330T010000
END:DAYLIGHT
BEGIN:STANDARD
TZOFFSETFROM:+0200
TZOFFSETTO:+0100
TZNAME:CET
DTSTART:20251026T010000
END:STANDARD
BEGIN:DAYLIGHT
TZOFFSETFROM:+0100
TZOFFSETTO:+0200
TZNAME:CEST
DTSTART:20260329T010000
END:DAYLIGHT
BEGIN:STANDARD
TZOFFSETFROM:+0200
TZOFFSETTO:+0100
TZNAME:CET
DTSTART:20261025T010000
END:STANDARD
BEGIN:DAYLIGHT
TZOFFSETFROM:+0100
TZOFFSETTO:+0200
TZNAME:CEST
DTSTART:20270328T010000
END:DAYLIGHT
BEGIN:STANDARD
TZOFFSETFROM:+0200
TZOFFSETTO:+0100
TZNAME:CET
DTSTART:20271031T010000
END:STANDARD
END:VTIMEZONE
BEGIN:VEVENT
DTSTART;TZID=Europe/Berlin:20260519T200000
DTEND;TZID=Europe/Berlin:20260519T213000
DTSTAMP:20260424T102905
CREATED:20260323T080812Z
LAST-MODIFIED:20260323T080812Z
UID:3409-1779220800-1779226200@jugend.alfa-ev.de
SUMMARY:Pro Life Forum: "No uterus\, no opinion" - Hat der Mann ein Mitspracherecht beim Thema Abtreibung?
DESCRIPTION:﻿ \nWir möchten deine Meinung hören und wollen miteinander über die Frage diskutieren: \n„No uterus\, no opinion“ – Hat der Mann ein Mitspracherecht beim Thema Abtreibung? \nWir sind gespannt\, was du dazu zu sagen hast? Sei dabei und diskutiere und debattiere mit anderen. \nWir sind gespannt und freuen uns auf dich!
URL:https://jugend.alfa-ev.de/veranstaltungen/pro-life-forum-no-uterus-no-opinion-hat-der-mann-ein-mitspracherecht-beim-thema-abtreibung/
LOCATION:Zoom
ORGANIZER;CN="Jugend f%C3%BCr das Leben Deutschland":MAILTO:kontakt@jugendfuerdasleben.de
END:VEVENT
END:VCALENDAR