BEGIN:VCALENDAR
VERSION:2.0
PRODID:-//Jugend für das Leben - ECPv6.15.18//NONSGML v1.0//EN
CALSCALE:GREGORIAN
METHOD:PUBLISH
X-ORIGINAL-URL:https://jugend.alfa-ev.de
X-WR-CALDESC:Veranstaltungen für Jugend für das Leben
REFRESH-INTERVAL;VALUE=DURATION:PT1H
X-Robots-Tag:noindex
X-PUBLISHED-TTL:PT1H
BEGIN:VTIMEZONE
TZID:Europe/Berlin
BEGIN:DAYLIGHT
TZOFFSETFROM:+0100
TZOFFSETTO:+0200
TZNAME:CEST
DTSTART:20250330T010000
END:DAYLIGHT
BEGIN:STANDARD
TZOFFSETFROM:+0200
TZOFFSETTO:+0100
TZNAME:CET
DTSTART:20251026T010000
END:STANDARD
BEGIN:DAYLIGHT
TZOFFSETFROM:+0100
TZOFFSETTO:+0200
TZNAME:CEST
DTSTART:20260329T010000
END:DAYLIGHT
BEGIN:STANDARD
TZOFFSETFROM:+0200
TZOFFSETTO:+0100
TZNAME:CET
DTSTART:20261025T010000
END:STANDARD
BEGIN:DAYLIGHT
TZOFFSETFROM:+0100
TZOFFSETTO:+0200
TZNAME:CEST
DTSTART:20270328T010000
END:DAYLIGHT
BEGIN:STANDARD
TZOFFSETFROM:+0200
TZOFFSETTO:+0100
TZNAME:CET
DTSTART:20271031T010000
END:STANDARD
END:VTIMEZONE
BEGIN:VEVENT
DTSTART;TZID=Europe/Berlin:20260127T200000
DTEND;TZID=Europe/Berlin:20260127T213000
DTSTAMP:20260425T141158
CREATED:20260108T094611Z
LAST-MODIFIED:20260109T122042Z
UID:3140-1769544000-1769549400@jugend.alfa-ev.de
SUMMARY:Pro Life Forum: Große Aufregung im EU-Parlament
DESCRIPTION:Mehr als eine Million Menschen haben die Petition „My voice\, my choice“ unterschrieben und fordern damit finanzielle Unterstützung der EU für „sichere und zugängliche Abtreibungen in Europa“. \nJetzt herrscht große Aufregung: Wir simulieren eine Debatte im EU-Parlament\, bei der Pro Lifer und Pro Choicer zu Wort kommen. Sei dabei und bring im Pro Life Forum am 27.01. um 20 Uhr deine Meinung mit ein! Anmeldung unter: https://www.alfa-ev.de/kalender/pro-life-forum-sollte-die-eu-abtreibungen-finanzieren/ \nPS: Weitere Infos zu „My voice\, my choice“ gibt’s beim Wissenssprint am 22.01. um 20 Uhr. Anmeldung unter: https://www.alfa-ev.de/kalender/wissenssprint-my-voice-my-choice-eine-kritische-analyse-der-eu-buergerinitiative/
URL:https://jugend.alfa-ev.de/veranstaltungen/pro-life-forum-sollte-die-eu-abtreibungen-finanzieren/
LOCATION:Zoom
ORGANIZER;CN="Jugend f%C3%BCr das Leben Deutschland":MAILTO:kontakt@jugendfuerdasleben.de
END:VEVENT
END:VCALENDAR