BEGIN:VCALENDAR
VERSION:2.0
PRODID:-//Jugend für das Leben - ECPv6.15.18//NONSGML v1.0//EN
CALSCALE:GREGORIAN
METHOD:PUBLISH
X-ORIGINAL-URL:https://jugend.alfa-ev.de
X-WR-CALDESC:Veranstaltungen für Jugend für das Leben
REFRESH-INTERVAL;VALUE=DURATION:PT1H
X-Robots-Tag:noindex
X-PUBLISHED-TTL:PT1H
BEGIN:VTIMEZONE
TZID:Europe/Berlin
BEGIN:DAYLIGHT
TZOFFSETFROM:+0100
TZOFFSETTO:+0200
TZNAME:CEST
DTSTART:20240331T010000
END:DAYLIGHT
BEGIN:STANDARD
TZOFFSETFROM:+0200
TZOFFSETTO:+0100
TZNAME:CET
DTSTART:20241027T010000
END:STANDARD
BEGIN:DAYLIGHT
TZOFFSETFROM:+0100
TZOFFSETTO:+0200
TZNAME:CEST
DTSTART:20250330T010000
END:DAYLIGHT
BEGIN:STANDARD
TZOFFSETFROM:+0200
TZOFFSETTO:+0100
TZNAME:CET
DTSTART:20251026T010000
END:STANDARD
BEGIN:DAYLIGHT
TZOFFSETFROM:+0100
TZOFFSETTO:+0200
TZNAME:CEST
DTSTART:20260329T010000
END:DAYLIGHT
BEGIN:STANDARD
TZOFFSETFROM:+0200
TZOFFSETTO:+0100
TZNAME:CET
DTSTART:20261025T010000
END:STANDARD
END:VTIMEZONE
BEGIN:VEVENT
DTSTART;VALUE=DATE:20251014
DTEND;VALUE=DATE:20251016
DTSTAMP:20260425T191002
CREATED:20250729T064326Z
LAST-MODIFIED:20250801T154401Z
UID:2956-1760400000-1760572799@jugend.alfa-ev.de
SUMMARY:One of us in Brüssel
DESCRIPTION:Möchtest Du\, dass Deine Stimme als europäischer Bürger\nin den europäischen Institutionen\ngehört wird\, die einen so großen Einfluss auf unser tägliches Leben haben? \nMöchtest Du andere europäische Bürger kennenlernen\, die sich für\nbioethische Themen and Mutterschaftshilfen interessieren?\nMöchtest Du Mitgliedern des Europäischen Parlaments und den Kommissaren eine klare Botschaft zum Thema Mutterschaftshilfe übermitteln?\nDie Unterstützung von Müttern ist eine europäische Verantwortung und Kompetenz:\nEs ist das\, was so viele Frauen in ganz Europa brauchen\, also komm mit zu spannenden Tagen nach Brüssel! Die Jugend für das Leben fährt nach Brüssel\, sei dabei und melde dich an unter kontakt@jugendfuerdasleben.de \nONE OF US wird in diesem Herbst in Brüssel eine große Konferenz zum Thema „Mutterschaftshilfe“ organisieren. Ziel ist es\, die Mitglieder des Europäischen Parlaments (MdEP) und die Kommissare zu ermutigen\, die Mutterschaft und Frauen in Not in der EU zu unterstützen. \nDiese Veranstaltung wird eine politische und soziale Wirkung haben: Sie wird zeigen\, dass Lebensfragen für die europäischen Bürger und insbesondere für junge Menschen von Interesse und Priorität sind. \nDie Konferenz\, die mit der Unterstützung mehrerer Abgeordneter des Europäischen Parlaments organisiert wird\, findet am Mittwoch\, den 15. Oktober 2025\, von 9 bis 11 Uhr im Europäischen Parlament in einem großen Saal mit 150 Plätzen statt. \n 
URL:https://jugend.alfa-ev.de/veranstaltungen/one-of-us-in-bruessel/
ORGANIZER;CN="Jugend f%C3%BCr das Leben Deutschland":MAILTO:kontakt@jugendfuerdasleben.de
END:VEVENT
BEGIN:VEVENT
DTSTART;TZID=Europe/Berlin:20251014T200000
DTEND;TZID=Europe/Berlin:20251014T213000
DTSTAMP:20260425T191002
CREATED:20250429T072008Z
LAST-MODIFIED:20250911T082534Z
UID:2893-1760472000-1760477400@jugend.alfa-ev.de
SUMMARY:Wissenswert.Lebenswert "NER"- Natürliche Empfängnisregelung
DESCRIPTION:In diesem Wissenswert.Lebenswert wollen wir uns mit der „Natürlichen Empfängnisregelung“ beschäftigen. Was geht eigentlich im Körper der Frau ab? \nAls Referentinnen begrüßen wir Daniela Albert und Renate Marynissen. Beide sind zertifizierte NER-Beraterinnen.
URL:https://jugend.alfa-ev.de/veranstaltungen/wissenswert-lebenswert-4/
LOCATION:Zoom
ORGANIZER;CN="Jugend f%C3%BCr das Leben Deutschland":MAILTO:kontakt@jugendfuerdasleben.de
END:VEVENT
END:VCALENDAR