BEGIN:VCALENDAR
VERSION:2.0
PRODID:-//Jugend für das Leben - ECPv6.15.18//NONSGML v1.0//EN
CALSCALE:GREGORIAN
METHOD:PUBLISH
X-WR-CALNAME:Jugend für das Leben
X-ORIGINAL-URL:https://jugend.alfa-ev.de
X-WR-CALDESC:Veranstaltungen für Jugend für das Leben
REFRESH-INTERVAL;VALUE=DURATION:PT1H
X-Robots-Tag:noindex
X-PUBLISHED-TTL:PT1H
BEGIN:VTIMEZONE
TZID:Europe/Berlin
BEGIN:DAYLIGHT
TZOFFSETFROM:+0100
TZOFFSETTO:+0200
TZNAME:CEST
DTSTART:20240331T010000
END:DAYLIGHT
BEGIN:STANDARD
TZOFFSETFROM:+0200
TZOFFSETTO:+0100
TZNAME:CET
DTSTART:20241027T010000
END:STANDARD
BEGIN:DAYLIGHT
TZOFFSETFROM:+0100
TZOFFSETTO:+0200
TZNAME:CEST
DTSTART:20250330T010000
END:DAYLIGHT
BEGIN:STANDARD
TZOFFSETFROM:+0200
TZOFFSETTO:+0100
TZNAME:CET
DTSTART:20251026T010000
END:STANDARD
BEGIN:DAYLIGHT
TZOFFSETFROM:+0100
TZOFFSETTO:+0200
TZNAME:CEST
DTSTART:20260329T010000
END:DAYLIGHT
BEGIN:STANDARD
TZOFFSETFROM:+0200
TZOFFSETTO:+0100
TZNAME:CET
DTSTART:20261025T010000
END:STANDARD
END:VTIMEZONE
BEGIN:VEVENT
DTSTART;TZID=Europe/Berlin:20250502T140000
DTEND;TZID=Europe/Berlin:20250504T100000
DTSTAMP:20260419T144738
CREATED:20250311T130511Z
LAST-MODIFIED:20250401T111932Z
UID:2767-1746194400-1746352800@jugend.alfa-ev.de
SUMMARY:Pro Life Wochenende in München
DESCRIPTION:Die Jugend für das Leben organisiert zwei Tage mit einem spannenden Vortrag von PD Dr. Dr. Kai Witzel zum Thema „Meine Autonomie und mein Sterben“\, einer Pro Life City Tour durch die Innenstadt Münchens und vielem mehr! \nSei mit dabei und erlebe eine tolle Zeit im Herzen Bayerns!
URL:https://jugend.alfa-ev.de/veranstaltungen/pro-life-wochenende-in-muenchen/
LOCATION:München\, München
ORGANIZER;CN="Jugend f%C3%BCr das Leben Deutschland":MAILTO:kontakt@jugendfuerdasleben.de
END:VEVENT
BEGIN:VEVENT
DTSTART;VALUE=DATE:20250509
DTEND;VALUE=DATE:20250512
DTSTAMP:20260419T144738
CREATED:20250429T065604Z
LAST-MODIFIED:20250429T065604Z
UID:2845-1746748800-1747007999@jugend.alfa-ev.de
SUMMARY:Kongress Leben.Würde mit Pro Life City Tour
DESCRIPTION:Vom 9.-11. Mai 2025 findet auf dem Schönblick der Kongress Leben.Würde statt. \nAm Samstagvormittag wollen wir die Zeit nutzen\, um eine Pro-Life City Tour in Schwäbisch-Gmünd zu veranstalten. Vielleicht bist du ja auch dabei? \nWeitere Infos gibt es per Mail: kontakt@jugendfuerdasleben.de
URL:https://jugend.alfa-ev.de/veranstaltungen/kongress-leben-wuerde-mit-pro-life-city-tour/
LOCATION:Schönblick
ORGANIZER;CN="Jugend f%C3%BCr das Leben Deutschland":MAILTO:kontakt@jugendfuerdasleben.de
END:VEVENT
BEGIN:VEVENT
DTSTART;TZID=Europe/Berlin:20250517T090000
DTEND;TZID=Europe/Berlin:20250517T120000
DTSTAMP:20260419T144738
CREATED:20250429T071356Z
LAST-MODIFIED:20250429T071356Z
UID:2873-1747472400-1747483200@jugend.alfa-ev.de
SUMMARY:Fachtagung der ALfA 17. Mai 2025
DESCRIPTION:Unsere diesjährige Fachtagung findet am 17. Mai 2025 im Bonifatiushaus statt und steht unter dem Thema: Stärken erkennen\, Talente fördern – gemeinsam eine lebensbejahende Zukunft gestalten \n09:00 Uhr\nAnna Diouf – Journalistin und Kommunikationstrainerin: \nTeil 1: „Wahrhaftig und sympathisch für das Lebensrecht“ – Vortrag mit Diskussion \n10:30 Uhr \nTeil 2: „Kommunikationsfallen im Lebensrecht gekonnt umschiffen – Fallbeispiele / Workshop \n11:15 Uhr \nProf. Dr. Alexander Scharf \nMedizinische und juristische Aspekte zum § 218 – Vortrag mit Diskussion
URL:https://jugend.alfa-ev.de/veranstaltungen/fachtagung-der-alfa-17-mai-2025/
LOCATION:Bonifatiushaus Fulda\, Neuenberger Straße 3-5\, Fulda\, Hessen 36037 Deutschland
END:VEVENT
BEGIN:VEVENT
DTSTART;TZID=Europe/Berlin:20250524T150000
DTEND;TZID=Europe/Berlin:20250524T173000
DTSTAMP:20260419T144738
CREATED:20250429T070153Z
LAST-MODIFIED:20250429T070153Z
UID:2859-1748098800-1748107800@jugend.alfa-ev.de
SUMMARY:Tag für das ungeborene Leben 24. Mai 2025\,15:00 - 17:30
DESCRIPTION:Herzliche Einladung am Samstag\, den 24. Mai 2025  nach Detmold. Hier findet ein Tag für das ungeborene Leben statt. \nAdresse: \nGemeindesaal der katholischen Pfarrgemeinde Heilig Kreuz\nSchubertplatz 10\n32756 Detmold \nDer detaillierte Ablauf wie folgt: \n15:00-15:45 Uhr \nVortrag vom Gynäkologen Herrn Dr. Michael Kiworr \nüber die ärztliche Gewissensfreiheit \nund den Eid des Hippokrates \n15:45-16:00 Uhr \nErfahrungsbericht eines Betroffenen \n16:00-16:30 Uhr \nKaffeepause \n16:30-17:15 Uhr \nDie VitaL- Beraterin und Patin für neun Monate \nFrau Brit Bechtloff gibt Einblicke in ihre Arbeit mit Eltern \nin Schwangerschaftskonflikt Situationen. \n17:15-17:30 Uhr \nAusklang und Ende
URL:https://jugend.alfa-ev.de/veranstaltungen/tag-fuer-das-ungeborene-leben-24-mai-20251500-1730/
LOCATION:Detmold
END:VEVENT
BEGIN:VEVENT
DTSTART;VALUE=DATE:20250526
DTEND;VALUE=DATE:20250527
DTSTAMP:20260419T144738
CREATED:20250429T065706Z
LAST-MODIFIED:20250429T065829Z
UID:2850-1748217600-1748303999@jugend.alfa-ev.de
SUMMARY:Schulvortrag Bielefeld
DESCRIPTION:
URL:https://jugend.alfa-ev.de/veranstaltungen/schulvortrag-bielefeld/
LOCATION:Bielefeld
ORGANIZER;CN="Jugend f%C3%BCr das Leben Deutschland":MAILTO:kontakt@jugendfuerdasleben.de
END:VEVENT
BEGIN:VEVENT
DTSTART;VALUE=DATE:20250528
DTEND;VALUE=DATE:20250529
DTSTAMP:20260419T144738
CREATED:20250429T065805Z
LAST-MODIFIED:20250429T065805Z
UID:2853-1748390400-1748476799@jugend.alfa-ev.de
SUMMARY:Schulvortrag Bielefeld
DESCRIPTION:
URL:https://jugend.alfa-ev.de/veranstaltungen/schulvortrag-bielefeld-2/
LOCATION:Bielefeld
ORGANIZER;CN="Jugend f%C3%BCr das Leben Deutschland":MAILTO:kontakt@jugendfuerdasleben.de
END:VEVENT
END:VCALENDAR