BEGIN:VCALENDAR
VERSION:2.0
PRODID:-//Jugend für das Leben - ECPv6.15.18//NONSGML v1.0//EN
CALSCALE:GREGORIAN
METHOD:PUBLISH
X-ORIGINAL-URL:https://jugend.alfa-ev.de
X-WR-CALDESC:Veranstaltungen für Jugend für das Leben
REFRESH-INTERVAL;VALUE=DURATION:PT1H
X-Robots-Tag:noindex
X-PUBLISHED-TTL:PT1H
BEGIN:VTIMEZONE
TZID:Europe/Berlin
BEGIN:DAYLIGHT
TZOFFSETFROM:+0100
TZOFFSETTO:+0200
TZNAME:CEST
DTSTART:20240331T010000
END:DAYLIGHT
BEGIN:STANDARD
TZOFFSETFROM:+0200
TZOFFSETTO:+0100
TZNAME:CET
DTSTART:20241027T010000
END:STANDARD
BEGIN:DAYLIGHT
TZOFFSETFROM:+0100
TZOFFSETTO:+0200
TZNAME:CEST
DTSTART:20250330T010000
END:DAYLIGHT
BEGIN:STANDARD
TZOFFSETFROM:+0200
TZOFFSETTO:+0100
TZNAME:CET
DTSTART:20251026T010000
END:STANDARD
BEGIN:DAYLIGHT
TZOFFSETFROM:+0100
TZOFFSETTO:+0200
TZNAME:CEST
DTSTART:20260329T010000
END:DAYLIGHT
BEGIN:STANDARD
TZOFFSETFROM:+0200
TZOFFSETTO:+0100
TZNAME:CET
DTSTART:20261025T010000
END:STANDARD
END:VTIMEZONE
BEGIN:VEVENT
DTSTART;TZID=Europe/Berlin:20250502T140000
DTEND;TZID=Europe/Berlin:20250504T100000
DTSTAMP:20260423T103519
CREATED:20250311T130511Z
LAST-MODIFIED:20250401T111932Z
UID:2767-1746194400-1746352800@jugend.alfa-ev.de
SUMMARY:Pro Life Wochenende in München
DESCRIPTION:Die Jugend für das Leben organisiert zwei Tage mit einem spannenden Vortrag von PD Dr. Dr. Kai Witzel zum Thema „Meine Autonomie und mein Sterben“\, einer Pro Life City Tour durch die Innenstadt Münchens und vielem mehr! \nSei mit dabei und erlebe eine tolle Zeit im Herzen Bayerns!
URL:https://jugend.alfa-ev.de/veranstaltungen/pro-life-wochenende-in-muenchen/
LOCATION:München\, München
ORGANIZER;CN="Jugend f%C3%BCr das Leben Deutschland":MAILTO:kontakt@jugendfuerdasleben.de
END:VEVENT
END:VCALENDAR